{"text_format":"1","workbook":"xlsx","n_sheets":3,"sheets":["記入例","表紙","内訳明細書"],"not_rendered":{"charts":0,"images":0,"macros":0,"external_links":0,"defined_names":3,"comments":3,"pivot_tables":0},"unopened":[],"bounds":{"document_bytes":16777216,"sheet_cells":100000,"rows_first":2000,"rows_last":500,"rows_between":2000,"halvings":0,"cell_chars":16384,"cell_head_chars":4096},"cells_cut":0,"cells_raw":0,"read":"whole","date_system":"1900"}

{"sheet":"記入例","index":0,"n_rows":20,"n_cols":31,"rows_kept":20,"cut":false,"hidden":false,"merged":[[15,30,15,53],[21,18,21,22],[20,18,20,22],[19,18,19,22],[18,18,18,22],[17,18,17,22],[16,18,16,22],[21,25,21,28],[16,23,22,24],[19,3,19,11],[19,12,19,14],[19,15,19,17],[19,25,19,28],[22,3,22,11],[22,12,22,14],[22,15,22,17],[22,25,22,28],[22,18,22,22],[20,3,20,11],[20,12,20,14],[20,15,20,17],[20,25,20,28],[21,3,21,11],[21,12,21,14],[21,15,21,17],[17,3,17,11],[17,12,17,14],[17,15,17,17],[17,25,17,28],[18,3,18,11],[18,12,18,14],[18,15,18,17],[18,25,18,28],[16,3,16,11],[16,12,16,14],[16,15,16,17],[16,25,16,28],[15,18,15,22],[15,23,15,24],[15,3,15,11],[15,12,15,14],[15,15,15,17],[15,25,15,28],[8,1,8,2],[8,4,8,9],[8,17,10,18],[8,19,10,28],[10,1,11,3],[10,4,11,5],[10,6,11,6],[10,7,11,8],[11,17,12,18],[11,19,12,26],[11,27,12,28],[12,1,13,2],[12,3,13,12],[13,17,13,18],[13,19,13,28],[5,4,5,7],[5,10,7,19],[5,30,6,53],[6,4,6,7],[7,4,7,7],[7,20,7,21],[7,22,7,23],[1,2,1,3],[1,23,3,26],[1,30,1,36],[2,2,2,3],[2,4,2,20],[1,4,1,20]]}
[]
[null,"※",null,null,"に必要項目を入力してください。(入力すると色が消えるようになっています。)",null,null,null,null,null,null,null,null,null,null,null,null,null,null,null,null,null,null,"記入例",null,null,null,null,null,null,"※請求書の取扱上の注意点"]
[null,null,null,null,"には入力しないでください。(緑の欄に入力したものは反映されるようになっています。)"]
[null,null,null,null,null,null,null,null,null,null,null,null,null,null,null,null,null,null,null,null,null,null,null,null,null,null,null,null,null,null,"①この請求書は当社専用の請求書(3枚複写)です。提出される場合は、表紙と内訳明細書の業者控を除く各2枚ずつセットにして提出してください。"]
[]
[null,null,null,null,"業者コード",null,null,null,null,null,"請求内訳明細書",null,null,null,null,null,null,null,null,null,null,null,null,null,null,null,null,null,null,null,"②この請求書及び請求内訳明細書は※毎月20日締め切り25日までに当社へ必着とします。遅れますと次月払いとなりますのでご注意願います。"]
[]
[null,null,null,null,"登録番号",null,null,null,null,null,null,null,null,null,null,null,null,null,null,null,"西暦",null,null,null,"年",null,"月",null,"日"]
[null,"(業者控)",null,null,null,null,null,null,null,null,null,null,null,null,null,null,null,"住所",null,null,null,null,null,null,null,null,null,null,null,null,"③支払日は毎月17日(AM9:00～PM4:00)です。ただし17日が休日の場合は、翌営業日とします。"]
[]
[null,"工事番号",null,null,null,null,"ー",null,null,null,null,null,null,null,null,null,null,null,null,null,null,null,null,null,null,null,null,null,null,null,"④請求年月日、工事名、工事番号は必ず記入してください。(工事名、工事番号は当社現場担当に確認してください。)"]
[null,null,null,null,null,null,null,null,null,null,null,null,null,null,null,null,null,"会社名",null,null,null,null,null,null,null,null,null,"印"]
[null,"工事名",null,null,null,null,null,null,null,null,null,null,null,null,null,null,null,null,null,null,null,null,null,null,null,null,null,null,null,null,"⑤社印は必ず捺印してください。"]
[null,null,null,null,null,null,null,null,null,null,null,null,null,null,null,null,null,"TEL"]
[]
[null,"月","日","品名／規格",null,null,null,null,null,null,null,null,"数量",null,null,"単価",null,null,"金額",null,null,null,null,"税率",null,"備考",null,null,null,null,"⑥小数点以下切り捨てとなっているため各会社ごとに計算方法の指定がある場合、手入力してください。"]
[]
[null,null,null,null,null,null,null,null,null,null,null,null,null,null,null,null,null,null,null,null,null,null,null,null,null,null,null,null,null,null,"⑦可能であれば印刷する際は緑の塗りつぶしのみ消してカラーコピーしください。"]
[]
[null,null,null,null,null,null,null,null,null,null,null,null,null,null,null,null,null,null,null,null,null,null,null,null,null,null,null,null,null,null,"⑧小計、消費税、合計は自動的に計算されないため金額を計算し内訳明細書と表紙に入力してください。"]

{"sheet":"表紙","index":1,"n_rows":94,"n_cols":27,"rows_kept":94,"cut":false,"hidden":false,"merged":[[37,7,37,8],[38,7,38,8],[39,7,39,8],[37,9,37,14],[38,9,38,14],[68,7,68,14],[69,7,69,8],[70,7,70,8],[71,7,71,8],[69,9,69,14],[70,9,70,14],[71,9,71,14],[39,9,39,14],[18,19,18,20],[18,16,20,18],[20,19,20,20],[21,16,22,20],[23,16,24,19],[21,21,22,26],[23,21,23,26],[24,21,24,26],[18,21,18,26],[19,21,19,26],[20,21,20,26],[32,4,32,7],[33,4,33,7],[35,15,36,16],[42,16,43,20],[26,16,27,19],[26,21,26,26],[27,21,27,26],[19,19,19,20],[35,17,36,26],[39,15,39,16],[42,21,43,22],[37,15,38,16],[37,25,38,26],[42,23,43,24],[42,25,43,26],[34,20,34,21],[32,10,33,16],[36,7,36,14],[40,17,40,26],[52,7,52,14],[53,7,53,14],[56,7,56,11],[56,14,56,15],[56,16,56,19],[40,15,40,16],[50,7,50,14],[51,7,51,14],[78,21,78,26],[79,19,79,20],[79,21,79,26],[90,20,90,22],[53,21,53,26],[56,20,56,22],[56,23,56,26],[57,14,57,15],[57,16,57,19],[57,20,57,22],[80,21,80,26],[11,4,11,12],[12,4,12,12],[7,1,7,2],[91,20,91,22],[90,23,90,26],[91,23,91,26],[90,16,90,19],[59,23,59,26],[58,23,58,26],[59,20,59,22],[58,20,58,22],[59,16,59,19],[58,16,58,19],[66,20,66,21],[76,16,77,20],[76,21,77,26],[88,23,88,26],[81,16,82,20],[81,21,82,26],[83,16,84,19],[88,20,88,22],[83,21,83,26],[78,16,80,18],[78,19,78,20],[22,3,23,6],[22,7,22,14],[23,7,23,14],[4,10,5,16],[12,15,12,16],[16,16,17,20],[4,4,4,7],[5,4,5,7],[14,21,15,22],[7,15,8,16],[9,15,10,16],[11,15,11,16],[7,17,8,26],[9,17,10,24],[11,17,11,26],[9,25,10,26],[16,21,17,26],[14,16,15,20],[12,17,12,26],[14,23,15,24],[14,25,15,26],[6,20,6,21],[9,2,9,12],[10,4,10,12],[10,2,10,3],[11,2,11,3],[12,2,12,3],[37,1,39,2],[42,1,43,2],[35,1,35,2],[36,3,36,4],[36,5,36,6],[37,3,39,4],[16,1,25,2],[14,3,15,14],[14,1,15,2],[16,3,17,6],[16,7,16,14],[17,7,17,14],[19,7,19,14],[18,7,18,14],[24,3,25,6],[24,7,24,14],[25,7,25,14],[18,3,19,6],[20,3,21,6],[20,7,20,14],[21,7,21,14],[44,3,45,6],[44,7,44,14],[45,7,45,14],[36,1,36,2],[37,5,39,6],[42,3,43,14],[67,1,67,2],[67,15,68,16],[67,17,68,26],[68,1,68,2],[68,3,68,4],[68,5,68,6],[64,10,65,16],[55,1,55,26],[44,1,53,2],[44,16,45,20],[44,21,45,26],[60,12,60,13],[57,23,57,26],[61,1,61,15],[58,3,58,6],[59,3,59,6],[58,7,58,11],[59,7,59,11],[59,14,59,15],[58,14,58,15],[59,12,59,13],[58,12,58,13],[50,3,51,6],[57,12,57,13],[74,1,75,2],[74,3,75,14],[74,16,75,20],[69,1,71,2],[69,3,71,4],[69,5,71,6],[69,15,70,16],[69,17,70,24],[72,15,72,16],[72,17,72,26],[74,21,75,22],[74,23,75,24],[74,25,75,26],[69,25,70,26],[71,15,71,16],[71,17,71,26],[60,3,60,6],[60,7,60,11],[64,4,64,7],[65,4,65,7],[60,14,60,15],[60,16,60,19],[88,3,88,6],[88,7,88,11],[82,7,82,14],[83,7,83,14],[84,3,85,6],[84,7,84,14],[85,7,85,14],[88,12,88,13],[88,16,88,19],[78,7,78,14],[79,7,79,14],[80,7,80,14],[81,7,81,14],[80,19,80,20],[57,3,57,6],[57,7,57,11],[37,17,38,24],[39,17,39,26],[52,21,52,26],[56,12,56,13],[93,16,93,19],[89,3,89,6],[93,1,93,15],[91,3,91,6],[90,3,90,6],[89,7,89,11],[90,14,90,15],[91,14,91,15],[91,12,91,13],[90,12,90,13],[93,20,93,22],[93,23,93,26],[60,20,60,22],[60,23,60,26],[61,16,61,19],[61,20,61,22],[61,23,61,26],[88,14,88,15],[92,3,92,6],[92,20,92,22],[92,23,92,26],[89,20,89,22],[89,23,89,26],[87,1,87,26],[84,21,84,26],[85,21,85,26],[76,3,77,6],[91,7,91,11],[90,7,90,11],[92,7,92,11],[92,12,92,13],[92,14,92,15],[92,16,92,19],[89,12,89,13],[89,14,89,15],[89,16,89,19],[76,1,85,2],[76,7,76,14],[77,7,77,14],[82,3,83,6],[78,3,79,6],[80,3,81,6],[52,3,53,6],[56,3,56,6],[46,16,48,18],[46,19,46,20],[47,19,47,20],[48,19,48,20],[46,21,46,26],[47,21,47,26],[48,21,48,26],[46,3,47,6],[48,3,49,6],[46,7,46,14],[47,7,47,14],[48,7,48,14],[49,7,49,14],[49,16,50,20],[49,21,50,26],[51,16,52,19],[51,21,51,26]]}
[]
[]
[]
[]
[null,null,null,null,"業者コード",null,null,null,null,null,"請求書"]
[null,null,null,null,{"$f":"IF(内訳明細書!E2=\"\",\"\",内訳明細書!E2)","v":""}]
[null,null,null,null,null,null,null,null,null,null,null,null,null,null,null,null,null,null,null,"西暦",{"$f":"IF(内訳明細書!V3=\"\",\"\",内訳明細書!V3)","v":""},null,"年",{"$f":"IF(内訳明細書!X3=\"\",\"\",内訳明細書!X3)","v":""},"月",{"$f":"IF(内訳明細書!Z3=\"\",\"\",内訳明細書!Z3)","v":""},"日"]
[null,"(業者控)",null,null,null,null,null,null,null,null,null,null,null,null,null,"住所",null,{"$f":"IF(内訳明細書!T4=\"\",\"\",内訳明細書!T4)","v":""}]
[]
[null,null,"＜お振込み口座情報＞",null,null,null,null,null,null,null,null,null,null,null,null,"会社名",null,{"$f":"IF(内訳明細書!T7=\"\",\"\",内訳明細書!T7)","v":""},null,null,null,null,null,null,null,"印"]
[null,null,"金融機関名"]
[null,null,"支店名",null,null,null,null,null,null,null,null,null,null,null,null,"TEL",null,{"$f":"IF(内訳明細書!T9=\"\",\"\",内訳明細書!T9)","v":""}]
[null,null,"口座番号",null,null,null,null,null,null,null,null,null,null,null,null,"登録番号"]
[]
[null,"工事名",null,{"$f":"IF(内訳明細書!D8=\"\",\"\",内訳明細書!D8)","v":""},null,null,null,null,null,null,null,null,null,null,null,null,"工事番号",null,null,null,null,{"$f":"IF(内訳明細書!E6=\"\",\"\",内訳明細書!E6)","v":""},null,"ー",null,{"$f":"IF(内訳明細書!H6=\"\",\"\",内訳明細書!H6)","v":""}]
[]
[null,"今月分",null,"請求金額Ⓐ(税抜)\n(Ⓕ+Ⓖ）",null,null,null,null,null,null,null,null,null,null,null,null,"立替払金額(税込) Ⓓ",null,null,null,null,"△"]
[]
[null,null,null,"消費税額合計Ⓑ",null,null,null,null,null,null,null,null,null,null,null,null,"消費税額",null,null,"合計 ㋺"]
[null,null,null,null,null,null,null,null,null,null,null,null,null,null,null,null,null,null,null,"10％対象㋑"]
[null,null,null,"10％対象Ⓕ",null,null,null,null,null,null,null,null,null,null,null,null,null,null,null,"8％対象㋑"]
[null,null,null,null,null,null,null,null,null,null,null,null,null,null,null,null,"差引支払金額(Ⓒ-Ⓓ)"]
[null,null,null,"8％対象Ⓖ"]
[null,null,null,null,null,null,null,null,null,null,null,null,null,null,null,null,"支払決定金額",null,null,null,"小"]
[null,null,null,"合計金額Ⓒ\n（Ⓐ+Ⓑ）",null,null,null,null,null,null,null,null,null,null,null,null,null,null,null,null,"約"]
[]
[]
[]
[]
[]
[]
[]
[null,null,null,null,"業者コード",null,null,null,null,null,"請求書"]
[null,null,null,null,{"$f":"IF(E6=\"\",\"\",E6)","v":""}]
[null,null,null,null,null,null,null,null,null,null,null,null,null,null,null,null,{"$f":"Q7","v":0},null,null,"西暦",{"$f":"IF(U7=\"\",\"\",U7)","v":""},null,"年",{"$f":"IF(X7=\"\",\"\",X7)","v":""},"月",{"$f":"IF(Z7=\"\",\"\",Z7)","v":""},"日"]
[null,"(現場控)",null,null,null,null,null,null,null,null,null,null,null,null,null,"住所",null,{"$f":"IF(R8=\"\",\"\",R8)","v":""}]
[null,"承認",null,"所属長",null,"担当",null,"＜お振込み口座情報＞"]
[null,null,null,null,null,null,null,"金融機関名",null,{"$f":"IF(E11=\"\",\"\",E11)","v":""},null,null,null,null,null,"会社名",null,{"$f":"IF(R10=\"\",\"\",R10)","v":""},null,null,null,null,null,null,null,"印"]
[null,null,null,null,null,null,null,"支店名",null,{"$f":"IF(E12=\"\",\"\",E12)","v":""}]
[null,null,null,null,null,null,null,"口座番号",null,{"$f":"IF(E13=\"\",\"\",E13)","v":""},null,null,null,null,null,"TEL",null,{"$f":"IF(R12=\"\",\"\",R12)","v":""}]
[null,null,null,null,null,null,null,null,null,null,null,null,null,null,null,"登録番号",null,{"$f":"IF(R13=\"\",\"\",R13)","v":""}]
[]
[null,"工事名",null,{"$f":"IF(D15=\"\",\"\",D15)","v":""},null,null,null,null,null,null,null,null,null,null,null,null,"工事番号",null,null,null,null,{"$f":"IF(V15=\"\",\"\",V15)","v":""},null,"ー",null,{"$f":"IF(Z15=\"\",\"\",Z15)","v":""}]
[]
[null,"今月分",null,"請求金額Ⓐ(税抜)\n(Ⓕ+Ⓖ）",null,null,null,null,null,null,null,null,null,null,null,null,"立替払金額(税込) Ⓓ",null,null,null,null,"△"]
[null,null,null,null,null,null,null,{"$f":"IF(H18=\"\",\"\",H18)","v":""}]
[null,null,null,"消費税額合計Ⓑ",null,null,null,null,null,null,null,null,null,null,null,null,"消費税額",null,null,"合計 ㋺"]
[null,null,null,null,null,null,null,{"$f":"IF(H20=\"\",\"\",H20)","v":""},null,null,null,null,null,null,null,null,null,null,null,"10％対象㋑"]
[null,null,null,"10％対象Ⓕ",null,null,null,null,null,null,null,null,null,null,null,null,null,null,null,"8％対象㋑"]
[null,null,null,null,null,null,null,{"$f":"IF(H22=\"\",\"\",H22)","v":""},null,null,null,null,null,null,null,null,"差引支払金額(Ⓒ-Ⓓ)"]
[null,null,null,"8％対象Ⓖ"]
[null,null,null,null,null,null,null,{"$f":"IF(H24=\"\",\"\",H24)","v":""},null,null,null,null,null,null,null,null,"支払決定金額",null,null,null,"小"]
[null,null,null,"合計金額Ⓒ\n（Ⓐ+Ⓑ）",null,null,null,null,null,null,null,null,null,null,null,null,null,null,null,null,"約"]
[null,null,null,null,null,null,null,{"$f":"IF(H26=\"\",\"\",H26)","v":""}]
[]
[null,"立替金精算書"]
[null,"月","日","支払先名",null,null,null,"品名",null,null,null,null,"数量",null,"単価",null,"金額　㋑",null,null,null,"消費税額　㋺",null,null,"税込金額Ⓓ"]
[]
[]
[]
[]
[null,"合計"]
[]
[]
[null,null,null,null,"業者コード",null,null,null,null,null,"請求書"]
[null,null,null,null,{"$f":"IF(E6=\"\",\"\",E6)","v":""},null,null,null,null,null,null,null,null,null,null,null,null,null,null,null,null,null,null,{"$f":"IF(X6,X6,\"\")","v":""}]
[null,null,null,null,null,null,null,null,null,null,null,null,null,null,null,null,{"$f":"Q7","v":0},null,null,"西暦",{"$f":"IF(U7=\"\",\"\",U7)","v":""},null,"年",{"$f":"IF(X7=\"\",\"\",X7)","v":""},"月",{"$f":"IF(Z7=\"\",\"\",Z7)","v":""},"日"]
[null,"(経理控)",null,null,null,null,null,null,null,null,null,null,null,null,null,"住所",null,{"$f":"IF(R8=\"\",\"\",R8)","v":""}]
[null,"承認",null,"所属長",null,"担当",null,"＜お振込み口座情報＞"]
[null,null,null,null,null,null,null,"金融機関名",null,{"$f":"IF(E11=\"\",\"\",E11)","v":""},null,null,null,null,null,"会社名",null,{"$f":"IF(R10=\"\",\"\",R10)","v":""},null,null,null,null,null,null,null,"印"]
[null,null,null,null,null,null,null,"支店名",null,{"$f":"IF(E12=\"\",\"\",E12)","v":""}]
[null,null,null,null,null,null,null,"口座番号",null,{"$f":"IF(E13=\"\",\"\",E13)","v":""},null,null,null,null,null,"TEL",null,{"$f":"IF(R12=\"\",\"\",R12)","v":""}]
[null,null,null,null,null,null,null,null,null,null,null,null,null,null,null,"登録番号",null,{"$f":"IF(R13=\"\",\"\",R13)","v":""}]
[]
[null,"工事名",null,{"$f":"IF(D15=\"\",\"\",D15)","v":""},null,null,null,null,null,null,null,null,null,null,null,null,"工事番号",null,null,null,null,{"$f":"IF(V15=\"\",\"\",V15)","v":""},null,"ー",null,{"$f":"IF(Z15=\"\",\"\",Z15)","v":""}]
[]
[null,"今月分",null,"請求金額Ⓐ(税抜)\n(Ⓕ+Ⓖ）",null,null,null,null,null,null,null,null,null,null,null,null,"立替払金額(税込) Ⓓ",null,null,null,null,"△"]
[null,null,null,null,null,null,null,{"$f":"IF(H18=\"\",\"\",H18)","v":""}]
[null,null,null,"消費税額合計Ⓑ",null,null,null,null,null,null,null,null,null,null,null,null,"消費税額",null,null,"合計 ㋺"]
[null,null,null,null,null,null,null,{"$f":"IF(H20=\"\",\"\",H20)","v":""},null,null,null,null,null,null,null,null,null,null,null,"10％対象㋑"]
[null,null,null,"10％対象Ⓕ",null,null,null,null,null,null,null,null,null,null,null,null,null,null,null,"8％対象㋑"]
[null,null,null,null,null,null,null,{"$f":"IF(H22=\"\",\"\",H22)","v":""},null,null,null,null,null,null,null,null,"差引支払金額(Ⓒ-Ⓓ)"]
[null,null,null,"8％対象Ⓖ"]
[null,null,null,null,null,null,null,{"$f":"IF(H24=\"\",\"\",H24)","v":""},null,null,null,null,null,null,null,null,"支払決定金額",null,null,null,"小"]
[null,null,null,"合計金額Ⓒ\n（Ⓐ+Ⓑ）",null,null,null,null,null,null,null,null,null,null,null,null,null,null,null,null,"約"]
[null,null,null,null,null,null,null,{"$f":"IF(H26=\"\",\"\",H26)","v":""}]
[]
[null,"立替金精算書"]
[null,"月","日","支払先名",null,null,null,"品名",null,null,null,null,"数量",null,"単価",null,"金額　㋑",null,null,null,"消費税額　㋺",null,null,"税込金額Ⓓ"]
[]
[]
[]
[]
[null,"合計"]

{"sheet":"内訳明細書","index":2,"n_rows":90,"n_cols":30,"rows_kept":90,"cut":false,"hidden":false,"merged":[[86,1,86,17],[87,1,87,17],[86,18,86,21],[87,18,87,21],[34,5,34,8],[64,5,64,8],[75,22,75,26],[74,22,74,26],[73,22,73,26],[72,22,72,26],[71,22,71,26],[84,22,84,26],[83,22,83,26],[82,22,82,26],[81,22,81,26],[80,22,80,26],[79,22,79,26],[78,22,78,26],[77,22,77,26],[76,22,76,26],[48,3,48,11],[49,18,49,21],[49,15,49,17],[49,12,49,14],[23,22,23,26],[24,22,24,26],[40,22,40,26],[54,22,54,26],[53,22,53,26],[52,22,52,26],[51,22,51,26],[50,22,50,26],[49,22,49,26],[48,22,48,26],[47,22,47,26],[46,22,46,26],[45,22,45,26],[44,22,44,26],[43,22,43,26],[42,22,42,26],[41,22,41,26],[14,22,14,26],[15,22,15,26],[16,22,16,26],[17,22,17,26],[18,22,18,26],[19,22,19,26],[20,22,20,26],[21,22,21,26],[22,22,22,26],[48,12,48,14],[48,15,48,17],[48,18,48,21],[49,3,49,11],[46,18,46,21],[46,15,46,17],[47,3,47,11],[47,18,47,21],[47,15,47,17],[46,12,46,14],[85,22,89,26],[78,3,78,11],[78,12,78,14],[78,15,78,17],[78,18,78,21],[77,3,77,11],[76,3,76,11],[76,12,76,14],[76,15,76,17],[76,18,76,21],[77,12,77,14],[77,15,77,17],[77,18,77,21],[89,1,89,17],[89,18,89,21],[80,18,80,21],[81,12,81,14],[81,15,81,17],[81,18,81,21],[83,12,83,14],[83,15,83,17],[83,18,83,21],[88,1,88,17],[88,18,88,21],[85,1,85,17],[85,18,85,21],[84,12,84,14],[0,4,0,7],[13,18,13,21],[13,15,13,17],[13,12,13,14],[12,18,12,21],[12,15,12,17],[12,12,12,14],[11,18,11,21],[11,15,11,17],[11,12,11,14],[1,4,1,7],[5,4,6,5],[5,6,6,6],[5,7,6,8],[2,4,2,7],[0,10,2,19],[3,19,5,26],[12,3,12,11],[11,3,11,11],[84,15,84,17],[54,15,54,17],[84,18,84,21],[81,3,81,11],[80,3,80,11],[80,12,80,14],[80,15,80,17],[83,3,83,11],[79,3,79,11],[79,12,79,14],[79,15,79,17],[79,18,79,21],[82,3,82,11],[82,12,82,14],[82,15,82,17],[82,18,82,21],[84,3,84,11],[75,3,75,11],[74,3,74,11],[74,12,74,14],[74,15,74,17],[74,18,74,21],[75,12,75,14],[75,15,75,17],[75,18,75,21],[73,3,73,11],[72,3,72,11],[72,12,72,14],[72,15,72,17],[72,18,72,21],[73,12,73,14],[73,15,73,17],[73,18,73,21],[68,17,68,18],[66,17,67,18],[64,17,65,18],[68,19,68,26],[64,1,64,2],[64,19,65,26],[71,3,71,11],[70,3,70,11],[70,12,70,14],[70,15,70,17],[70,18,70,21],[71,12,71,14],[71,15,71,17],[71,18,71,21],[66,19,67,24],[66,25,67,26],[67,1,68,2],[65,1,66,3],[65,4,66,5],[65,6,66,6],[65,7,66,8],[67,3,68,12],[70,22,70,26],[62,6,63,7],[62,4,63,5],[61,6,61,7],[61,4,61,5],[61,10,63,19],[53,3,53,11],[58,1,58,17],[58,18,58,21],[59,1,59,17],[59,18,59,21],[54,3,54,11],[54,12,54,14],[53,15,53,17],[54,18,54,21],[53,18,53,21],[56,1,56,17],[57,1,57,17],[56,18,56,21],[57,18,57,21],[55,22,59,26],[55,1,55,17],[55,18,55,21],[50,3,50,11],[52,3,52,11],[51,18,51,21],[53,12,53,14],[52,12,52,14],[50,12,50,14],[51,12,51,14],[51,3,51,11],[52,15,52,17],[51,15,51,17],[52,18,52,21],[50,15,50,17],[50,18,50,21],[45,3,45,11],[44,3,44,11],[45,18,45,21],[45,15,45,17],[45,12,45,14],[44,12,44,14],[47,12,47,14],[41,3,41,11],[46,3,46,11],[43,3,43,11],[42,3,42,11],[42,18,42,21],[42,15,42,17],[42,12,42,14],[43,18,43,21],[43,15,43,17],[43,12,43,14],[44,15,44,17],[44,18,44,21],[41,12,41,14],[41,18,41,21],[41,15,41,17],[40,3,40,11],[24,3,24,11],[28,18,28,21],[29,18,29,21],[29,1,29,17],[28,1,28,17],[31,4,31,5],[25,1,25,17],[24,12,24,14],[24,15,24,17],[24,18,24,21],[25,18,25,21],[34,19,35,26],[38,19,38,26],[36,25,37,26],[36,19,37,24],[25,22,29,26],[31,10,33,19],[37,1,38,2],[37,3,38,12],[34,1,34,2],[35,1,36,3],[35,4,36,5],[35,6,36,6],[35,7,36,8],[40,12,40,14],[40,18,40,21],[40,15,40,17],[38,17,38,18],[36,17,37,18],[34,17,35,18],[21,3,21,11],[20,3,20,11],[21,18,21,21],[21,15,21,17],[21,12,21,14],[20,18,20,21],[20,15,20,17],[20,12,20,14],[23,3,23,11],[22,3,22,11],[22,18,22,21],[22,15,22,17],[22,12,22,14],[23,18,23,21],[23,12,23,14],[23,15,23,17],[32,6,33,7],[31,6,31,7],[32,4,33,5],[18,3,18,11],[19,18,19,21],[19,15,19,17],[19,12,19,14],[18,18,18,21],[18,15,18,17],[18,12,18,14],[19,3,19,11],[26,1,26,17],[27,1,27,17],[26,18,26,21],[27,18,27,21],[15,3,15,11],[15,18,15,21],[15,15,15,17],[15,12,15,14],[17,3,17,11],[16,3,16,11],[17,18,17,21],[17,15,17,17],[17,12,17,14],[16,18,16,21],[16,15,16,17],[16,12,16,14],[13,3,13,11],[14,3,14,11],[14,18,14,21],[14,15,14,17],[14,12,14,14],[11,22,11,26],[12,22,12,26],[3,1,3,2],[10,12,10,14],[10,15,10,17],[10,18,10,21],[7,1,8,2],[7,3,8,12],[5,1,6,3],[6,25,7,26],[3,4,3,9],[10,3,10,11],[3,17,5,18],[6,17,7,18],[6,19,7,24],[8,17,8,18],[8,19,8,26],[10,22,10,26],[13,22,13,26]]}
[null,null,null,null,"業者コード",null,null,null,null,null,"請求内訳明細書"]
[]
[null,null,null,null,"登録番号",null,null,null,null,null,null,null,null,null,null,null,null,null,null,null,"西暦",null,"年",null,"月",null,"日"]
[null,"(業者控)",null,null,null,null,null,null,null,null,null,null,null,null,null,null,null,"住所"]
[]
[null,"工事番号",null,null,null,null,"ー"]
[null,null,null,null,null,null,null,null,null,null,null,null,null,null,null,null,null,"会社名",null,null,null,null,null,null,null,"印"]
[null,"工事名"]
[null,null,null,null,null,null,null,null,null,null,null,null,null,null,null,null,null,"TEL"]
[]
[null,"月","日","品名／規格",null,null,null,null,null,null,null,null,"数量",null,null,"単価",null,null,"金額",null,null,null,"備考"]
[null,null,null,null,null,null,null,null,null,null,null,null,null,null,null,null,null,null,{"$f":"IF(ROUNDDOWN(M12*P12,0)=0,\"\",ROUNDDOWN(M12*P12,0))","v":""},null,null,null,null,null,null,null,null,null,null,"　"]
[null,null,null,null,null,null,null,null,null,null,null,null,null,null,null,null,null,null,{"$f":"IF(ROUNDDOWN(M13*P13,0)=0,\"\",ROUNDDOWN(M13*P13,0))","v":""}]
[null,null,null,null,null,null,null,null,null,null,null,null,null,null,null,null,null,null,""]
[null,null,null,null,null,null,null,null,null,null,null,null,null,null,null,null,null,null,""]
[null,null,null,null,null,null,null,null,null,null,null,null,null,null,null,null,null,null,""]
[null,null,null,null,null,null,null,null,null,null,null,null,null,null,null,null,null,null,""]
[null,null,null,null,null,null,null,null,null,null,null,null,null,null,null,null,null,null,""]
[null,null,null,null,null,null,null,null,null,null,null,null,null,null,null,null,null,null,""]
[null,null,null,null,null,null,null,null,null,null,null,null,null,null,null,null,null,null,""]
[null,null,null,null,null,null,null,null,null,null,null,null,null,null,null,null,null,null,""]
[null,null,null,null,null,null,null,null,null,null,null,null,null,null,null,null,null,null,""]
[null,null,null,null,null,null,null,null,null,null,null,null,null,null,null,null,null,null,""]
[null,null,null,null,null,null,null,null,null,null,null,null,null,null,null,null,null,null,""]
[null,null,null,null,null,null,null,null,null,null,null,null,null,null,null,null,null,null,""]
[null,"小計Ⓐ(税抜)（Ⓕ+Ⓖ）",null,null,null,null,null,null,null,null,null,null,null,null,null,null,null,null,{"$f":"SUM(S12:V25)","v":0}]
[null,"消費税合計Ⓑ"]
[null,"10％対象（金額小計）Ⓕ"]
[null,"8％対象（金額小計）Ⓖ"]
[null,"合計Ⓒ（Ⓐ+Ⓑ）"]
[]
[null,null,null,null,"所属長",null,"担当",null,null,null,"請求内訳明細書"]
[]
[null,null,null,null,null,null,null,null,null,null,null,null,null,null,null,null,null,null,null,null,"西暦",{"$f":"IF(V3=\"\",\"\",V3)","v":""},"年",{"$f":"IF(X3=\"\",\"\",X3)","v":""},"月",{"$f":"IF(Z3=\"\",\"\",Z3)","v":""},"日"]
[null,"(現場控)",null,"登録番号",null,{"$f":"IF(E4=\"\",\"\",E4)","v":""},null,null,null,null,null,null,null,null,null,null,null,"住所",null,{"$f":"IF(T4=\"\",\"\",T4)","v":""}]
[null,"工事番号",null,null,{"$f":"IF(E6=\"\",\"\",E6)","v":""},null,"ー",{"$f":"IF(H6=\"\",\"\",H6)","v":""}]
[null,null,null,null,null,null,null,null,null,null,null,null,null,null,null,null,null,"会社名",null,{"$f":"IF(T7=\"\",\"\",T7)","v":""},null,null,null,null,null,"印"]
[null,"工事名",null,{"$f":"IF(D8=\"\",\"\",D8)","v":""}]
[null,null,null,null,null,null,null,null,null,null,null,null,null,null,null,null,null,"TEL",null,{"$f":"IF(T9=\"\",\"\",T9)","v":""}]
[]
[null,"月","日","品名／規格",null,null,null,null,null,null,null,null,"数量",null,null,"単価　",null,null,"金額",null,null,null,"備考"]
[null,{"$f":"IF(B12=\"\",\"\",B12)","v":""},{"$f":"IF(C12=\"\",\"\",C12)","v":""},{"$f":"IF(D12=\"\",\"\",D12)","v":""},null,null,null,null,null,null,null,null,{"$f":"IF(M12=\"\",\"\",M12)","v":""},null,null,{"$f":"IF(P12=\"\",\"\",P12)","v":""},null,null,{"$f":"IF(S12=\"\",\"\",S12)","v":""},null,null,null,{"$f":"IF(W12=\"\",\"\",W12)","v":""}]
[null,{"$f":"IF(B13=\"\",\"\",B13)","v":""},"","",null,null,null,null,null,null,null,null,{"$f":"IF(M13=\"\",\"\",M13)","v":""},null,null,{"$f":"IF(P13=\"\",\"\",P13)","v":""},null,null,{"$f":"IF(S13=\"\",\"\",S13)","v":""},null,null,null,{"$f":"IF(W13=\"\",\"\",W13)","v":""}]
[null,"","","",null,null,null,null,null,null,null,null,"",null,null,"",null,null,"",null,null,null,""]
[null,"","","",null,null,null,null,null,null,null,null,"",null,null,"",null,null,"",null,null,null,""]
[null,"","","",null,null,null,null,null,null,null,null,"",null,null,"",null,null,"",null,null,null,""]
[null,"","","",null,null,null,null,null,null,null,null,"",null,null,"",null,null,"",null,null,null,""]
[null,"","","",null,null,null,null,null,null,null,null,"",null,null,"",null,null,"",null,null,null,""]
[null,"","","",null,null,null,null,null,null,null,null,"",null,null,"",null,null,"",null,null,null,""]
[null,"","","",null,null,null,null,null,null,null,null,"",null,null,"",null,null,"",null,null,null,""]
[null,"","","",null,null,null,null,null,null,null,null,"",null,null,"",null,null,"",null,null,null,""]
[null,"","","",null,null,null,null,null,null,null,null,"",null,null,"",null,null,"",null,null,null,""]
[null,"","","",null,null,null,null,null,null,null,null,"",null,null,"",null,null,"",null,null,null,""]
[null,"","","",null,null,null,null,null,null,null,null,"",null,null,"",null,null,"",null,null,null,""]
[null,"","","",null,null,null,null,null,null,null,null,"",null,null,"",null,null,"",null,null,null,""]
[null,"小計Ⓐ(税抜)（Ⓕ+Ⓖ）",null,null,null,null,null,null,null,null,null,null,null,null,null,null,null,null,{"$f":"IF(S26=\"\",\"\",S26)","v":0}]
[null,"消費税合計Ⓑ",null,null,null,null,null,null,null,null,null,null,null,null,null,null,null,null,{"$f":"IF(S27=\"\",\"\",S27)","v":""}]
[null,"10％対象（金額小計）Ⓕ",null,null,null,null,null,null,null,null,null,null,null,null,null,null,null,null,{"$f":"IF(S28=\"\",\"\",S28)","v":""}]
[null,"8％対象（金額小計）Ⓖ",null,null,null,null,null,null,null,null,null,null,null,null,null,null,null,null,{"$f":"IF(S29=\"\",\"\",S29)","v":""}]
[null,"合計Ⓒ（Ⓐ+Ⓑ）",null,null,null,null,null,null,null,null,null,null,null,null,null,null,null,null,{"$f":"IF(S30=\"\",\"\",S30)","v":""}]
[]
[null,null,null,null,"所属長",null,"担当",null,null,null,"請求内訳明細書"]
[]
[null,null,null,null,null,null,null,null,null,null,null,null,null,null,null,null,null,null,null,null,"西暦",{"$f":"IF(V3=\"\",\"\",V3)","v":""},"年",{"$f":"IF(X3=\"\",\"\",X3)","v":""},"月",{"$f":"IF(Z3=\"\",\"\",Z3)","v":""},"日"]
[null,"(経理控)",null,"登録番号",null,{"$f":"IF(E4=\"\",\"\",E4)","v":""},null,null,null,null,null,null,null,null,null,null,null,"住所",null,{"$f":"IF(T4=\"\",\"\",T4)","v":""}]
[null,"工事番号",null,null,{"$f":"IF(E6=\"\",\"\",E6)","v":""},null,"ー",{"$f":"IF(H6=\"\",\"\",H6)","v":""}]
[null,null,null,null,null,null,null,null,null,null,null,null,null,null,null,null,null,"会社名",null,{"$f":"IF(T7=\"\",\"\",T7)","v":""},null,null,null,null,null,"印"]
[null,"工事名",null,{"$f":"IF(D8=\"\",\"\",D8)","v":""}]
[null,null,null,null,null,null,null,null,null,null,null,null,null,null,null,null,null,"TEL",null,{"$f":"IF(T9=\"\",\"\",T9)","v":""}]
[]
[null,"月","日","品名／規格",null,null,null,null,null,null,null,null,"数量",null,null,"単価　",null,null,"金額",null,null,null,"備考"]
[null,{"$f":"IF(B12=\"\",\"\",B12)","v":""},{"$f":"IF(C12=\"\",\"\",C12)","v":""},{"$f":"IF(D12=\"\",\"\",D12)","v":""},null,null,null,null,null,null,null,null,{"$f":"IF(M12=\"\",\"\",M12)","v":""},null,null,{"$f":"IF(P12=\"\",\"\",P12)","v":""},null,null,{"$f":"IF(S12=\"\",\"\",S12)","v":""},null,null,null,{"$f":"IF(W12=\"\",\"\",W12)","v":""}]
[null,{"$f":"IF(B13=\"\",\"\",B13)","v":""},"",{"$f":"IF(D13=\"\",\"\",D13)","v":""},null,null,null,null,null,null,null,null,{"$f":"IF(M13=\"\",\"\",M13)","v":""},null,null,{"$f":"IF(P13=\"\",\"\",P13)","v":""},null,null,{"$f":"IF(S13=\"\",\"\",S13)","v":""},null,null,null,{"$f":"IF(W13=\"\",\"\",W13)","v":""}]
[null,"","","",null,null,null,null,null,null,null,null,"",null,null,"",null,null,"",null,null,null,""]
[null,"","","",null,null,null,null,null,null,null,null,"",null,null,"",null,null,"",null,null,null,""]
[null,"","","",null,null,null,null,null,null,null,null,"",null,null,"",null,null,"",null,null,null,""]
[null,"","","",null,null,null,null,null,null,null,null,"",null,null,"",null,null,"",null,null,null,""]
[null,"","","",null,null,null,null,null,null,null,null,"",null,null,"",null,null,"",null,null,null,""]
[null,"","","",null,null,null,null,null,null,null,null,"",null,null,"",null,null,"",null,null,null,""]
[null,"","","",null,null,null,null,null,null,null,null,"",null,null,"",null,null,"",null,null,null,""]
[null,"","","",null,null,null,null,null,null,null,null,"",null,null,"",null,null,"",null,null,null,""]
[null,"","","",null,null,null,null,null,null,null,null,"",null,null,"",null,null,"",null,null,null,""]
[null,"","","",null,null,null,null,null,null,null,null,"",null,null,"",null,null,"",null,null,null,""]
[null,"","","",null,null,null,null,null,null,null,null,"",null,null,"",null,null,"",null,null,null,""]
[null,"","","",null,null,null,null,null,null,null,null,"",null,null,"",null,null,"",null,null,null,""]
[null,"小計Ⓐ(税抜)（Ⓕ+Ⓖ）",null,null,null,null,null,null,null,null,null,null,null,null,null,null,null,null,{"$f":"IF(S26=\"\",\"\",S26)","v":0}]
[null,"消費税合計Ⓑ",null,null,null,null,null,null,null,null,null,null,null,null,null,null,null,null,{"$f":"IF(S27=\"\",\"\",S27)","v":""}]
[null,"10％対象（金額小計）Ⓕ",null,null,null,null,null,null,null,null,null,null,null,null,null,null,null,null,{"$f":"IF(S28=\"\",\"\",S28)","v":""}]
[null,"8％対象（金額小計）Ⓖ",null,null,null,null,null,null,null,null,null,null,null,null,null,null,null,null,{"$f":"IF(S29=\"\",\"\",S29)","v":""}]
[null,"合計Ⓒ（Ⓐ+Ⓑ）",null,null,null,null,null,null,null,null,null,null,null,null,null,null,null,null,{"$f":"IF(S30=\"\",\"\",S30)","v":""}]